
    
    
    BEGIN:VCALENDAR
VERSION:2.0
PRODID:-//Chanchalben Mafatlal College of Nursing | Kadi Sarva Vishwavidyalaya - ECPv6.13.2.1//NONSGML v1.0//EN
CALSCALE:GREGORIAN
METHOD:PUBLISH
X-WR-CALNAME:Chanchalben Mafatlal College of Nursing | Kadi Sarva Vishwavidyalaya
X-ORIGINAL-URL:https://cmpatelcollegeofnursing.edu.in
X-WR-CALDESC:Events for Chanchalben Mafatlal College of Nursing | Kadi Sarva Vishwavidyalaya
REFRESH-INTERVAL;VALUE=DURATION:PT1H
X-Robots-Tag:noindex
X-PUBLISHED-TTL:PT1H
BEGIN:VTIMEZONE
TZID:UTC
BEGIN:STANDARD
TZOFFSETFROM:+0000
TZOFFSETTO:+0000
TZNAME:UTC
DTSTART:20260101T000000
END:STANDARD
END:VTIMEZONE
BEGIN:VEVENT
DTSTART;VALUE=DATE:20260401
DTEND;VALUE=DATE:20260403
DTSTAMP:20260423T223049
CREATED:20260323T072020Z
LAST-MODIFIED:20260323T113326Z
UID:976-1775001600-1775174399@cmpatelcollegeofnursing.edu.in
SUMMARY:5th National Conference
DESCRIPTION:
URL:https://cmpatelcollegeofnursing.edu.in/event/5th-national-conference/
LOCATION:C M PATEL COLLEGE OF NURSING\, CMP College of Nursing\, Civil Hospital Campus\, Sector 12B\,\, Gandhinagar\, Gujarat\, 382012\, India
END:VEVENT
BEGIN:VEVENT
DTSTART;VALUE=DATE:20260416
DTEND;VALUE=DATE:20260418
DTSTAMP:20260423T223049
CREATED:20260415T142143Z
LAST-MODIFIED:20260415T142143Z
UID:988-1776297600-1776470399@cmpatelcollegeofnursing.edu.in
SUMMARY:MANDATORY MODULETRAINING FOR B. SC NURSING STUDENTS
DESCRIPTION:
URL:https://cmpatelcollegeofnursing.edu.in/event/mandatory-moduletraining-for-b-sc-nursing-students/
LOCATION:C M PATEL COLLEGE OF NURSING\, CMP College of Nursing\, Civil Hospital Campus\, Sector 12B\,\, Gandhinagar\, Gujarat\, 382012\, India
ATTACH;FMTTYPE=image/jpeg:https://cmpatelcollegeofnursing.edu.in/wp-content/uploads/2026/04/1-1.jpg
END:VEVENT
BEGIN:VEVENT
DTSTART;TZID=UTC:20260423T100000
DTEND;TZID=UTC:20260423T170000
DTSTAMP:20260423T223049
CREATED:20260415T142253Z
LAST-MODIFIED:20260415T142253Z
UID:990-1776938400-1776963600@cmpatelcollegeofnursing.edu.in
SUMMARY:AROGYA AHAAR 2026
DESCRIPTION:
URL:https://cmpatelcollegeofnursing.edu.in/event/arogya-ahaar-2026/
LOCATION:C M PATEL COLLEGE OF NURSING\, CMP College of Nursing\, Civil Hospital Campus\, Sector 12B\,\, Gandhinagar\, Gujarat\, 382012\, India
ATTACH;FMTTYPE=image/jpeg:https://cmpatelcollegeofnursing.edu.in/wp-content/uploads/2026/04/WhatsApp-Image-2026-04-15-at-17.46.25.jpeg
END:VEVENT
END:VCALENDAR